BEGIN:VCALENDAR
VERSION:2.0
PRODID:-//Bilbao International Church - ECPv6.8.3//NONSGML v1.0//EN
CALSCALE:GREGORIAN
METHOD:PUBLISH
X-WR-CALNAME:Bilbao International Church
X-ORIGINAL-URL:https://bilbaointernationalchurch.com
X-WR-CALDESC:Events for Bilbao International Church
REFRESH-INTERVAL;VALUE=DURATION:PT1H
X-Robots-Tag:noindex
X-PUBLISHED-TTL:PT1H
BEGIN:VTIMEZONE
TZID:UTC
BEGIN:STANDARD
TZOFFSETFROM:+0000
TZOFFSETTO:+0000
TZNAME:UTC
DTSTART:20260101T000000
END:STANDARD
END:VTIMEZONE
BEGIN:VEVENT
DTSTART;TZID=UTC:20260421T183000
DTEND;TZID=UTC:20260421T200000
DTSTAMP:20260421T015145
CREATED:20260420T175235Z
LAST-MODIFIED:20260420T175235Z
UID:2124-1776796200-1776801600@bilbaointernationalchurch.com
SUMMARY:Men's Discipleship
DESCRIPTION:
URL:https://bilbaointernationalchurch.com/event/mens-discipleship-2
END:VEVENT
END:VCALENDAR